BEGIN:VCALENDAR
VERSION:2.0
PRODID:-//eventon.com NONSGML v1.0//EN
CALSCALE:GREGORIAN
METHOD:PUBLISH
BEGIN:VEVENT
UID:69e5fb7bba76e
DTSTAMP:20260420T101003Z
DTSTART:20250925T160000Z
DTEND:20250928T000000Z
LOCATION:
SUMMARY:EXPO PRODUCCIÓN 2025 en CitiBanamex
DESCRIPTION:Expo Producción es la única feria comercial que atiende la ca
 dena de suministro completa en México y centroamérica para la producción
  de productos de costura.\nhttps://www.exposmexico.com/events/expo-producci
 on-2025-en-citibanamex/
URL:https://www.exposmexico.com/events/expo-produccion-2025-en-citibanamex/
END:VEVENT
END:VCALENDAR