BEGIN:VCALENDAR
VERSION:2.0
PRODID:-//eventon.com NONSGML v1.0//EN
CALSCALE:GREGORIAN
METHOD:PUBLISH
BEGIN:VEVENT
UID:69e756036b262
DTSTAMP:20260421T104835Z
DTSTART:20250624T160000Z
DTEND:20250627T000000Z
LOCATION:
SUMMARY:EXPO SEGURIDAD MEXICO en CitiBanamex
DESCRIPTION:La mayor exhibición de produtos y soluciones de seguridad indu
 strial en America Latina. Evento profesional para la industria de la seguri
 dad\nhttps://www.exposmexico.com/events/expo-seguridad-mexico-en-citibaname
 x/
URL:https://www.exposmexico.com/events/expo-seguridad-mexico-en-citibanamex/
END:VEVENT
END:VCALENDAR