BEGIN:VCALENDAR
VERSION:2.0
PRODID:-//eventon.com NONSGML v1.0//EN
CALSCALE:GREGORIAN
METHOD:PUBLISH
BEGIN:VEVENT
UID:69e7509c4c846
DTSTAMP:20260421T102532Z
DTSTART:20250617T160000Z
DTEND:20250619T230000Z
LOCATION:
SUMMARY:INTERTRAFFIC AMERICAS  en CitiBanamex
DESCRIPTION:Intertraffic Americas es el punto de encuentro para la comunida
 d interesada en las tendencias y tecnologías que promueven una movilidad i
 nteligente\,  segura\,  eficiente y sostenible para todos.\nhttps://www.exp
 osmexico.com/events/intertraffic-americas-en-citibanamex/
URL:https://www.exposmexico.com/events/intertraffic-americas-en-citibanamex/
END:VEVENT
END:VCALENDAR