BEGIN:VCALENDAR
VERSION:2.0
PRODID:-//eventon.com NONSGML v1.0//EN
CALSCALE:GREGORIAN
METHOD:PUBLISH
BEGIN:VEVENT
UID:69e75593702cd
DTSTAMP:20260421T104643Z
DTSTART:20250325T170000Z
DTEND:20250326T230000Z
LOCATION:
SUMMARY:Residuos Expo en Citibanamex
DESCRIPTION:Residuos Expo presenta lo último en tecnología\,  maquinaria\
 ,  productos y servicios para realizar la correcta gestión de los residuos
  peligrosos y no peligrosos\,  de manejo especial y residuos sólidos urban
 os.\nhttps://www.exposmexico.com/events/residuos-expo-en-citibanamex/
URL:https://www.exposmexico.com/events/residuos-expo-en-citibanamex/
END:VEVENT
END:VCALENDAR