BEGIN:VCALENDAR
VERSION:2.0
PRODID:-//eventon.com NONSGML v1.0//EN
CALSCALE:GREGORIAN
METHOD:PUBLISH
BEGIN:VEVENT
UID:69e750b71822a
DTSTAMP:20260421T102559Z
DTSTART:20250215T170000Z
DTEND:20250217T020000Z
LOCATION:
SUMMARY:Expo Me Caso en WTC
DESCRIPTION:Encuentra todo lo que necesitas para organizar tu boda con pres
 tigiados expositores y promociones en un fin de semana.\nhttps://www.exposm
 exico.com/events/expo-me-caso-en-wtc-3/
URL:https://www.exposmexico.com/events/expo-me-caso-en-wtc-3/
END:VEVENT
END:VCALENDAR