BEGIN:VCALENDAR
VERSION:2.0
PRODID:-//eventon.com NONSGML v1.0//EN
CALSCALE:GREGORIAN
METHOD:PUBLISH
BEGIN:VEVENT
UID:69e78c5baf391
DTSTAMP:20260421T144027Z
DTSTART:20241009T160000Z
DTEND:20241010T230000Z
LOCATION:
SUMMARY:CleanTec Show en WTC
DESCRIPTION:Conferencias y muestra comercial para los profesionales en las 
 áreas deseo\,  limpieza\,  higiene y mantenimiento de Latinoamérica.\nhtt
 ps://www.exposmexico.com/events/cleantec-show-en-wtc/
URL:https://www.exposmexico.com/events/cleantec-show-en-wtc/
END:VEVENT
END:VCALENDAR