BEGIN:VCALENDAR
VERSION:2.0
PRODID:-//eventon.com NONSGML v1.0//EN
CALSCALE:GREGORIAN
METHOD:PUBLISH
BEGIN:VEVENT
UID:69e752db4c142
DTSTAMP:20260421T103507Z
DTSTART:20240622T160000Z
DTEND:20240624T010000Z
LOCATION:
SUMMARY:Expo Me Caso en WTC
DESCRIPTION:Encuentra todo para organizar tu boda en un fin de semana\,  co
 n las tendencias\,  la inspiración y la asesoría de prestigiados exposito
 res para hacer de ese día algo especial y único.\nhttps://www.exposmexico
 .com/events/expo-me-caso-en-wtc/
URL:https://www.exposmexico.com/events/expo-me-caso-en-wtc/
END:VEVENT
END:VCALENDAR