BEGIN:VCALENDAR
VERSION:2.0
PRODID:-//eventon.com NONSGML v1.0//EN
CALSCALE:GREGORIAN
METHOD:PUBLISH
BEGIN:VEVENT
UID:69e7534774565
DTSTAMP:20260421T103655Z
DTSTART:20240503T160000Z
DTEND:20240506T000000Z
LOCATION:
SUMMARY:CCXP MÃ‰XICO en CitiBanamex
DESCRIPTION:La Comic Con Experience (CCXP)\,  el festival de cultura pop mÃ
 ¡s grande de AmÃ©rica Latina\,  llega a MÃ©xico a realizarse del 3 al 5 de 
 mayo del 2024 en el imponente Centro Citibanamex de la Ciudad de MÃ©xico. C
 CXP MÃ©xico contarÃ¡ con una amplia gama de actividades y atracciones conce
 ntradas[..]\nhttps://www.exposmexico.com/events/ccxp-mexico-en-citibanamex/
URL:https://www.exposmexico.com/events/ccxp-mexico-en-citibanamex/
END:VEVENT
END:VCALENDAR