BEGIN:VCALENDAR
VERSION:2.0
PRODID:-//eventon.com NONSGML v1.0//EN
CALSCALE:GREGORIAN
METHOD:PUBLISH
BEGIN:VEVENT
UID:69e75152a044a
DTSTAMP:20260421T102834Z
DTSTART:20240525T153000Z
DTEND:20240527T003000Z
LOCATION:
SUMMARY:Expo Eres 15 en WTC
DESCRIPTION:Encuentra todo lo que necesitas para organizar y celebrar tus X
 V años.\nhttps://www.exposmexico.com/events/expo-eres-15-en-wtc/
URL:https://www.exposmexico.com/events/expo-eres-15-en-wtc/
END:VEVENT
END:VCALENDAR