BEGIN:VCALENDAR
VERSION:2.0
PRODID:-//eventon.com NONSGML v1.0//EN
CALSCALE:GREGORIAN
METHOD:PUBLISH
BEGIN:VEVENT
UID:69e755a737d82
DTSTAMP:20260421T104703Z
DTSTART:20240405T160000Z
DTEND:20240408T000000Z
LOCATION:
SUMMARY:Festival del Adulto Mayor en WTC
DESCRIPTION:Un evento inclusivo para adultos de 50 y más que desean tener 
 una experiencia de aprendizaje\,  cultura\,  entretenimiento y diversión e
 n donde encontrarán una amplia gama de productos\,  servicios y nuevas her
 ramientas para vivir mejor.\nhttps://www.exposmexico.com/events/festival-de
 l-adulto-mayor-en-wtc/
URL:https://www.exposmexico.com/events/festival-del-adulto-mayor-en-wtc/
END:VEVENT
END:VCALENDAR