BEGIN:VCALENDAR
VERSION:2.0
PRODID:-//eventon.com NONSGML v1.0//EN
CALSCALE:GREGORIAN
METHOD:PUBLISH
BEGIN:VEVENT
UID:69e4eda1a0812
DTSTAMP:20260419T145841Z
DTSTART:20240409T140000Z
DTEND:20240411T220000Z
LOCATION:
SUMMARY:iFX Expo Latam en WTC
DESCRIPTION:La principal expo de trading online en México.\nhttps://www.ex
 posmexico.com/events/ifx-expo-latam-en-wtc/
URL:https://www.exposmexico.com/events/ifx-expo-latam-en-wtc/
END:VEVENT
END:VCALENDAR